BEGIN:VCALENDAR
VERSION:2.0
PRODID:-//ChamberMaster//Event Calendar 2.0//EN
METHOD:PUBLISH
X-PUBLISHED-TTL:P3D
REFRESH-INTERVAL:P3D
CALSCALE:GREGORIAN
BEGIN:VEVENT
DTSTART:20251203T210000Z
DTEND:20251203T230000Z
X-MICROSOFT-CDO-ALLDAYEVENT:FALSE
SUMMARY:PWB Holiday Party
DESCRIPTION:Join us for a festive evening dedicated exclusively to PWB members and PWB member prospects! This special holiday gathering from 4:00 PM- 6 :00 PM brings together the incredible women shaping the future of the building industry   leaders\, innovators\, and rising professionals   for connection\, celebration\, and cheer.
X-ALT-DESC;FMTTYPE=text/html:<span style="font-size:16px\;"><span style="color:#000000\;">Join us for a festive evening dedicated exclusively to </span><span style="color:#EE82EE\;"><strong data-end="283" data-start="268">PWB members</strong></span><span style="color:#000000\;"> and </span><span style="color:#EE82EE\;"><strong data-end="312" data-start="288">PWB member prospects</strong></span><span style="color:#000000\;">! This special holiday gathering from <strong>4:00 PM- 6 :00 PM&nbsp\;</strong>brings together the incredible women shaping the future of the building industry &mdash\; leaders\, innovators\, and rising professionals &mdash\; for connection\, celebration\, and cheer.</span></span><br />\n<!--EndFragment-->
LOCATION:Closet Factory
UID:e.9357.4349
SEQUENCE:3
DTSTAMP:20260424T085150Z
URL:https://business.cvbia.com/events/details/pwb-holiday-party-4349
END:VEVENT

END:VCALENDAR
