BEGIN:VCALENDAR
VERSION:2.0
PRODID:-//ChamberMaster//Event Calendar 2.0//EN
METHOD:PUBLISH
X-PUBLISHED-TTL:P3D
REFRESH-INTERVAL:P3D
CALSCALE:GREGORIAN
BEGIN:VEVENT
DTSTART:20260806T130000Z
DTEND:20260806T143000Z
X-MICROSOFT-CDO-ALLDAYEVENT:FALSE
SUMMARY:CVBIA Informative Roundtable
DESCRIPTION:New to CVBIA or thinking about joining? Join us for a fun\, informative session where you'll learn about our programs\, events\, committees\, and member benefits. Current members get a refresher too! Connect with the local building community and see how CVBIA can support your growth.
X-ALT-DESC;FMTTYPE=text/html:<span style="font-size:16px\;"><span style="color:#000000\;"><strong>New to CVBIA&mdash\;or thinking about joining?</strong> Join us for a fun\, informative session where you&rsquo\;ll learn about our programs\, events\, committees\, and member benefits. Current members get a refresher too! Connect with the local building community and see how CVBIA can support your growth.</span></span>
LOCATION:CVBIA Office
UID:e.9357.4352
SEQUENCE:3
DTSTAMP:20260424T101743Z
URL:https://business.cvbia.com/events/details/cvbia-informative-roundtable-08-06-2026-4352
END:VEVENT

END:VCALENDAR
