BEGIN:VCALENDAR
VERSION:2.0
PRODID:-//ChamberMaster//Event Calendar 2.0//EN
METHOD:PUBLISH
X-PUBLISHED-TTL:P3D
REFRESH-INTERVAL:P3D
CALSCALE:GREGORIAN
BEGIN:VEVENT
DTSTART:20250521T130000Z
DTEND:20250521T140000Z
X-MICROSOFT-CDO-ALLDAYEVENT:FALSE
SUMMARY:CMHC Executive Committee meeting - via Zoom
DESCRIPTION:The Coastal Multifamily Housing Council Executive Committee meets - via Zoom - at 9 a.m.\, the third Wednesday of the month to discuss issues relevant to apartment management.  For 2025\, they will meet in February and March and then meet every other month.\n\nThe committee is open to one representative from each owner/manager member.
X-ALT-DESC;FMTTYPE=text/html:<p><span style="font-size:16px\;"><span style="font-family:arial\;">The Coastal Multifamily Housing Council Executive Committee meets - via Zoom - at 9 a.m.\, the third Wednesday of the month to discuss issues relevant to apartment management.&nbsp\; For 2025\, they will meet in February and March&nbsp\;and then meet every other month.</span></span></p>\n\n<p><span style="font-size:16px\;"><span style="font-family:arial\;"><strong>The committee is open to one representative from each owner/manager member.&nbsp\;</strong></span></span></p>\n
LOCATION:
UID:e.9357.4281
SEQUENCE:3
DTSTAMP:20260421T082808Z
URL:https://business.cvbia.com/events/details/cmhc-executive-committee-meeting-via-zoom-4281
END:VEVENT

END:VCALENDAR
