BEGIN:VCALENDAR
VERSION:2.0
PRODID:-//ChamberMaster//Event Calendar 2.0//EN
METHOD:PUBLISH
X-PUBLISHED-TTL:P3D
REFRESH-INTERVAL:P3D
CALSCALE:GREGORIAN
BEGIN:VEVENT
DTSTART:20251112T140000Z
DTEND:20251112T150000Z
X-MICROSOFT-CDO-ALLDAYEVENT:FALSE
SUMMARY:CMHC Educational and Events Committee meeting - via Zoom
DESCRIPTION:The Coastal Multifamily Housing Council Educational and Events Committee meets - via Zoom - at 9 a.m.\, the second Wednesday of the month to plan educational and networking programs. For 2025\, they will meet in February and March and then meet every other month.\n\nThe committee is open to one representative from each CMHC owner/manager and associate member.
X-ALT-DESC;FMTTYPE=text/html:<p><span style="font-size: 16px\;"><span style="font-family: arial\;">The Coastal Multifamily Housing Council Educational and Events&nbsp\;Committee meets - via Zoom - at 9 a.m.\, the second&nbsp\;Wednesday of the month to plan educational and networking programs.&nbsp\;For 2025\, they will meet in February and March&nbsp\;and then meet every other month.</span></span></p>\n\n<p><span style="font-size: 16px\;"><span style="font-family: arial\;"><strong>The committee is open to one representative from each CMHC owner/manager and associate&nbsp\;member.&nbsp\;</strong></span></span></p>\n
LOCATION:
UID:e.9357.4290
SEQUENCE:3
DTSTAMP:20260424T114900Z
URL:https://business.cvbia.com/events/details/cmhc-educational-and-events-committee-meeting-via-zoom-4290
END:VEVENT

END:VCALENDAR
