BEGIN:VCALENDAR
VERSION:2.0
PRODID:-//ChamberMaster//Event Calendar 2.0//EN
METHOD:PUBLISH
X-PUBLISHED-TTL:P3D
REFRESH-INTERVAL:P3D
CALSCALE:GREGORIAN
BEGIN:VEVENT
DTSTART;VALUE=DATE:20270116
DTEND;VALUE=DATE:20270118
TRANSP:TRANSPARENT
X-MICROSOFT-CDO-ALLDAYEVENT:TRUE
SUMMARY:2027 Mid-Atlantic Home & Outdoor Living Show
DESCRIPTION:Join Coastal Virginia Building Industry Association as we take over the Virginia Beach Convention Center to present the 42nd Annual Mid-Atlantic Home & Outdoor Living Show!\n\nClick on the link above for additional information on the 2027 show!
X-ALT-DESC;FMTTYPE=text/html:<p><span style="font-size:16px\;"><span style="font-family:arial\;">Join Coastal Virginia Building Industry Association as we take over the Virginia Beach Convention Center to present the 42nd&nbsp\;Annual Mid-Atlantic Home &amp\; Outdoor Living Show!</span></span></p>\n\n<p><span style="font-size:16px\;"><span style="font-family:arial\;">Click on the link above for additional information on the 2027 show!</span></span></p>\n
LOCATION:Virginia Beach Convention Center
UID:e.9357.4391
SEQUENCE:3
DTSTAMP:20260421T095817Z
URL:https://business.cvbia.com/events/details/2027-mid-atlantic-home-outdoor-living-show-4391
END:VEVENT

END:VCALENDAR
