BEGIN:VCALENDAR
VERSION:2.0
PRODID:-//ChamberMaster//Event Calendar 2.0//EN
METHOD:PUBLISH
X-PUBLISHED-TTL:P3D
REFRESH-INTERVAL:P3D
CALSCALE:GREGORIAN
BEGIN:VEVENT
DTSTART;VALUE=DATE:20260128
DTEND;VALUE=DATE:20260129
TRANSP:TRANSPARENT
X-MICROSOFT-CDO-ALLDAYEVENT:TRUE
SUMMARY:2026 HBAV Day at the General Assembly
DESCRIPTION:Join us for a day at the Virginia General Assembly! Please coordinate with you local HBA to schedule meetings with members of the General Assembly between 7:30 and 11:00 am. After meetings at the General Assembly\, HBAV will host all members and guests for lunch and a debrief meeting in the James Center Conference Room.
X-ALT-DESC;FMTTYPE=text/html:<span style="font-family:arial\;"><span style="font-size:16px\;"><span style="color:#000000\;">Join us for a day at the <strong>Virginia General Assembly</strong>! Please coordinate with you local HBA to schedule meetings with members of the General Assembly between 7:30 and 11:00 am. After meetings at the General Assembly\, HBAV will host all members and guests for lunch and a debrief meeting in the James Center Conference Room.</span></span></span>
LOCATION:General Assembly Building\, Richmond\, VA
UID:e.9357.4355
SEQUENCE:3
DTSTAMP:20260424T073211Z
URL:https://business.cvbia.com/events/details/2026-hbav-day-at-the-general-assembly-4355
END:VEVENT

END:VCALENDAR
